BEGIN:VCALENDAR
VERSION:2.0
PRODID:-//Department of Biological Sciences - ECPv6.15.20//NONSGML v1.0//EN
CALSCALE:GREGORIAN
METHOD:PUBLISH
X-WR-CALNAME:Department of Biological Sciences
X-ORIGINAL-URL:https://bio.sciences.ncsu.edu
X-WR-CALDESC:Events for Department of Biological Sciences
REFRESH-INTERVAL;VALUE=DURATION:PT1H
X-Robots-Tag:noindex
X-PUBLISHED-TTL:PT1H
BEGIN:VTIMEZONE
TZID:America/New_York
BEGIN:DAYLIGHT
TZOFFSETFROM:-0500
TZOFFSETTO:-0400
TZNAME:EDT
DTSTART:20240310T070000
END:DAYLIGHT
BEGIN:STANDARD
TZOFFSETFROM:-0400
TZOFFSETTO:-0500
TZNAME:EST
DTSTART:20241103T060000
END:STANDARD
BEGIN:DAYLIGHT
TZOFFSETFROM:-0500
TZOFFSETTO:-0400
TZNAME:EDT
DTSTART:20250309T070000
END:DAYLIGHT
BEGIN:STANDARD
TZOFFSETFROM:-0400
TZOFFSETTO:-0500
TZNAME:EST
DTSTART:20251102T060000
END:STANDARD
BEGIN:DAYLIGHT
TZOFFSETFROM:-0500
TZOFFSETTO:-0400
TZNAME:EDT
DTSTART:20260308T070000
END:DAYLIGHT
BEGIN:STANDARD
TZOFFSETFROM:-0400
TZOFFSETTO:-0500
TZNAME:EST
DTSTART:20261101T060000
END:STANDARD
END:VTIMEZONE
BEGIN:VEVENT
DTSTART;TZID=America/New_York:20251201T133000
DTEND;TZID=America/New_York:20251201T143000
DTSTAMP:20260423T235544
CREATED:20251030T143854Z
LAST-MODIFIED:20251030T143854Z
UID:10000338-1764595800-1764599400@bio.sciences.ncsu.edu
SUMMARY:GGA Seminar Series
DESCRIPTION:
URL:https://bio.sciences.ncsu.edu/event/gga-seminar-series-5/
LOCATION:3503 Thomas Hall
END:VEVENT
BEGIN:VEVENT
DTSTART;VALUE=DATE:20251202
DTEND;VALUE=DATE:20251204
DTSTAMP:20260423T235545
CREATED:20250806T183148Z
LAST-MODIFIED:20250806T183148Z
UID:10000214-1764673200-1764759599@bio.sciences.ncsu.edu
SUMMARY:Last Day of Fall Classes
DESCRIPTION:go.ncsu.edu/academiccalendar
URL:https://bio.sciences.ncsu.edu/event/last-day-of-fall-classes/
END:VEVENT
BEGIN:VEVENT
DTSTART;TZID=America/New_York:20251202T151500
DTEND;TZID=America/New_York:20251202T161500
DTSTAMP:20260423T235545
CREATED:20251030T143856Z
LAST-MODIFIED:20251030T143856Z
UID:10000339-1764688500-1764692100@bio.sciences.ncsu.edu
SUMMARY:TOX Seminar
DESCRIPTION:
URL:https://bio.sciences.ncsu.edu/event/tox-seminar-7/
LOCATION:Toxicology Building\, 850 Main Campus Dr\, Raleigh\, NC\, United States
GEO:35.775048;-78.67515
X-APPLE-STRUCTURED-LOCATION;VALUE=URI;X-ADDRESS=Toxicology Building 850 Main Campus Dr Raleigh NC United States;X-APPLE-RADIUS=500;X-TITLE=850 Main Campus Dr:geo:-78.67515,35.775048
END:VEVENT
BEGIN:VEVENT
DTSTART;TZID=America/New_York:20251204T160000
DTEND;TZID=America/New_York:20251204T170000
DTSTAMP:20260423T235545
CREATED:20251030T143922Z
LAST-MODIFIED:20251030T143922Z
UID:10000340-1764864000-1764867600@bio.sciences.ncsu.edu
SUMMARY:EvoGen seminar series
DESCRIPTION:
URL:https://bio.sciences.ncsu.edu/event/evogen-seminar-series-7/
END:VEVENT
BEGIN:VEVENT
DTSTART;TZID=America/New_York:20251208T133000
DTEND;TZID=America/New_York:20251208T143000
DTSTAMP:20260423T235545
CREATED:20251030T143923Z
LAST-MODIFIED:20251030T143923Z
UID:10000341-1765200600-1765204200@bio.sciences.ncsu.edu
SUMMARY:GGA Seminar Series
DESCRIPTION:
URL:https://bio.sciences.ncsu.edu/event/gga-seminar-series-6/
LOCATION:3503 Thomas Hall
END:VEVENT
BEGIN:VEVENT
DTSTART;TZID=America/New_York:20251211T083000
DTEND;TZID=America/New_York:20251211T100000
DTSTAMP:20260423T235545
CREATED:20250728T160412Z
LAST-MODIFIED:20250728T160412Z
UID:10000203-1765441800-1765447200@bio.sciences.ncsu.edu
SUMMARY:Bio Sci Department Graduation
DESCRIPTION:Please join us on Thursday\, December 11 at 8:30am for our department graduation ceremony.
URL:https://bio.sciences.ncsu.edu/event/bio-sci-department-graduation/
LOCATION:William Neal Reynolds Coliseum\, 2411 Dunn Ave\, Raleigh\, NC 27607\, USA\, 3300 W Dunn Ave\, United States
GEO:35.786279;-78.674945
X-APPLE-STRUCTURED-LOCATION;VALUE=URI;X-ADDRESS=William Neal Reynolds Coliseum 2411 Dunn Ave Raleigh NC 27607 USA 3300 W Dunn Ave United States;X-APPLE-RADIUS=500;X-TITLE=3300 W Dunn Ave:geo:-78.674945,35.786279
END:VEVENT
BEGIN:VEVENT
DTSTART;TZID=America/New_York:20251211T160000
DTEND;TZID=America/New_York:20251211T170000
DTSTAMP:20260423T235545
CREATED:20251030T143924Z
LAST-MODIFIED:20251030T143924Z
UID:10000342-1765468800-1765472400@bio.sciences.ncsu.edu
SUMMARY:EvoGen seminar series
DESCRIPTION:
URL:https://bio.sciences.ncsu.edu/event/evogen-seminar-series-8/
END:VEVENT
BEGIN:VEVENT
DTSTART;TZID=America/New_York:20251215T133000
DTEND;TZID=America/New_York:20251215T143000
DTSTAMP:20260423T235545
CREATED:20251030T143925Z
LAST-MODIFIED:20251030T143925Z
UID:10000343-1765805400-1765809000@bio.sciences.ncsu.edu
SUMMARY:GGA Seminar Series
DESCRIPTION:
URL:https://bio.sciences.ncsu.edu/event/gga-seminar-series-39/
LOCATION:3503 Thomas Hall
END:VEVENT
BEGIN:VEVENT
DTSTART;TZID=America/New_York:20251218T160000
DTEND;TZID=America/New_York:20251218T170000
DTSTAMP:20260423T235545
CREATED:20251030T143928Z
LAST-MODIFIED:20251030T143928Z
UID:10000344-1766073600-1766077200@bio.sciences.ncsu.edu
SUMMARY:EvoGen seminar series
DESCRIPTION:
URL:https://bio.sciences.ncsu.edu/event/evogen-seminar-series-9/
END:VEVENT
BEGIN:VEVENT
DTSTART;TZID=America/New_York:20251222T133000
DTEND;TZID=America/New_York:20251222T143000
DTSTAMP:20260423T235545
CREATED:20251030T143947Z
LAST-MODIFIED:20251030T143947Z
UID:10000345-1766410200-1766413800@bio.sciences.ncsu.edu
SUMMARY:GGA Seminar Series
DESCRIPTION:
URL:https://bio.sciences.ncsu.edu/event/gga-seminar-series-40/
LOCATION:3503 Thomas Hall
END:VEVENT
END:VCALENDAR