BEGIN:VCALENDAR
VERSION:2.0
PRODID:-//Department of Biological Sciences - ECPv6.15.20//NONSGML v1.0//EN
CALSCALE:GREGORIAN
METHOD:PUBLISH
X-WR-CALNAME:Department of Biological Sciences
X-ORIGINAL-URL:https://bio.sciences.ncsu.edu
X-WR-CALDESC:Events for Department of Biological Sciences
REFRESH-INTERVAL;VALUE=DURATION:PT1H
X-Robots-Tag:noindex
X-PUBLISHED-TTL:PT1H
BEGIN:VTIMEZONE
TZID:America/New_York
BEGIN:DAYLIGHT
TZOFFSETFROM:-0500
TZOFFSETTO:-0400
TZNAME:EDT
DTSTART:20240310T070000
END:DAYLIGHT
BEGIN:STANDARD
TZOFFSETFROM:-0400
TZOFFSETTO:-0500
TZNAME:EST
DTSTART:20241103T060000
END:STANDARD
BEGIN:DAYLIGHT
TZOFFSETFROM:-0500
TZOFFSETTO:-0400
TZNAME:EDT
DTSTART:20250309T070000
END:DAYLIGHT
BEGIN:STANDARD
TZOFFSETFROM:-0400
TZOFFSETTO:-0500
TZNAME:EST
DTSTART:20251102T060000
END:STANDARD
BEGIN:DAYLIGHT
TZOFFSETFROM:-0500
TZOFFSETTO:-0400
TZNAME:EDT
DTSTART:20260308T070000
END:DAYLIGHT
BEGIN:STANDARD
TZOFFSETFROM:-0400
TZOFFSETTO:-0500
TZNAME:EST
DTSTART:20261101T060000
END:STANDARD
END:VTIMEZONE
BEGIN:VEVENT
DTSTART;TZID=America/New_York:20250502T183000
DTEND;TZID=America/New_York:20250502T203000
DTSTAMP:20260422T004852
CREATED:20250128T193123Z
LAST-MODIFIED:20250128T193324Z
UID:10000181-1746210600-1746217800@bio.sciences.ncsu.edu
SUMMARY:Spring Graduation
DESCRIPTION:
URL:https://bio.sciences.ncsu.edu/event/spring-graduation/
LOCATION:William Neal Reynolds Coliseum\, 2411 Dunn Ave\, Raleigh\, NC 27607\, USA\, 3300 W Dunn Ave\, United States
GEO:35.786279;-78.674945
X-APPLE-STRUCTURED-LOCATION;VALUE=URI;X-ADDRESS=William Neal Reynolds Coliseum 2411 Dunn Ave Raleigh NC 27607 USA 3300 W Dunn Ave United States;X-APPLE-RADIUS=500;X-TITLE=3300 W Dunn Ave:geo:-78.674945,35.786279
END:VEVENT
BEGIN:VEVENT
DTSTART;TZID=America/New_York:20250505T133000
DTEND;TZID=America/New_York:20250505T143000
DTSTAMP:20260422T004852
CREATED:20250325T000301Z
LAST-MODIFIED:20250325T000301Z
UID:10000198-1746451800-1746455400@bio.sciences.ncsu.edu
SUMMARY:GGA Seminar Series
DESCRIPTION:
URL:https://bio.sciences.ncsu.edu/event/gga-seminar-series-33/
LOCATION:3503 Thomas Hall
END:VEVENT
BEGIN:VEVENT
DTSTART;TZID=America/New_York:20250508T123000
DTEND;TZID=America/New_York:20250508T190000
DTSTAMP:20260422T004852
CREATED:20250325T000302Z
LAST-MODIFIED:20250325T000302Z
UID:10000199-1746707400-1746730800@bio.sciences.ncsu.edu
SUMMARY:Toxicology Student Symposium
DESCRIPTION:
URL:https://bio.sciences.ncsu.edu/event/toxicology-student-symposium-2/
END:VEVENT
BEGIN:VEVENT
DTSTART;TZID=America/New_York:20250512T133000
DTEND;TZID=America/New_York:20250512T143000
DTSTAMP:20260422T004852
CREATED:20250325T000303Z
LAST-MODIFIED:20250325T000303Z
UID:10000200-1747056600-1747060200@bio.sciences.ncsu.edu
SUMMARY:GGA Seminar Series
DESCRIPTION:
URL:https://bio.sciences.ncsu.edu/event/gga-seminar-series-34/
LOCATION:3503 Thomas Hall
END:VEVENT
END:VCALENDAR