BEGIN:VCALENDAR
VERSION:2.0
PRODID:-//Department of Biological Sciences - ECPv6.15.20//NONSGML v1.0//EN
CALSCALE:GREGORIAN
METHOD:PUBLISH
X-WR-CALNAME:Department of Biological Sciences
X-ORIGINAL-URL:https://bio.sciences.ncsu.edu
X-WR-CALDESC:Events for Department of Biological Sciences
REFRESH-INTERVAL;VALUE=DURATION:PT1H
X-Robots-Tag:noindex
X-PUBLISHED-TTL:PT1H
BEGIN:VTIMEZONE
TZID:America/New_York
BEGIN:DAYLIGHT
TZOFFSETFROM:-0500
TZOFFSETTO:-0400
TZNAME:EDT
DTSTART:20250309T070000
END:DAYLIGHT
BEGIN:STANDARD
TZOFFSETFROM:-0400
TZOFFSETTO:-0500
TZNAME:EST
DTSTART:20251102T060000
END:STANDARD
BEGIN:DAYLIGHT
TZOFFSETFROM:-0500
TZOFFSETTO:-0400
TZNAME:EDT
DTSTART:20260308T070000
END:DAYLIGHT
BEGIN:STANDARD
TZOFFSETFROM:-0400
TZOFFSETTO:-0500
TZNAME:EST
DTSTART:20261101T060000
END:STANDARD
BEGIN:DAYLIGHT
TZOFFSETFROM:-0500
TZOFFSETTO:-0400
TZNAME:EDT
DTSTART:20270314T070000
END:DAYLIGHT
BEGIN:STANDARD
TZOFFSETFROM:-0400
TZOFFSETTO:-0500
TZNAME:EST
DTSTART:20271107T060000
END:STANDARD
END:VTIMEZONE
BEGIN:VEVENT
DTSTART;TZID=America/New_York:20260428T090000
DTEND;TZID=America/New_York:20260428T110000
DTSTAMP:20260421T002530
CREATED:20260120T185523Z
LAST-MODIFIED:20260120T185523Z
UID:10000419-1777366800-1777374000@bio.sciences.ncsu.edu
SUMMARY:Spring 2026 Walk-in Advising
DESCRIPTION:
URL:https://bio.sciences.ncsu.edu/event/spring-2026-walk-in-advising-2/2026-04-28/
LOCATION:https://ncsu.zoom.us/my/cassidy.hawkins
END:VEVENT
BEGIN:VEVENT
DTSTART;TZID=America/New_York:20260428T151500
DTEND;TZID=America/New_York:20260428T161500
DTSTAMP:20260421T002530
CREATED:20260120T184256Z
LAST-MODIFIED:20260120T184256Z
UID:10000390-1777389300-1777392900@bio.sciences.ncsu.edu
SUMMARY:Toxicology Seminar Series
DESCRIPTION:Dr. Katie Baldwin | UNC | Molecular organization of astrocyte connectivity
URL:https://bio.sciences.ncsu.edu/event/toxicology-seminar-series-12/
LOCATION:Toxicology Auditorium 2104
END:VEVENT
END:VCALENDAR