BEGIN:VCALENDAR
VERSION:2.0
PRODID:-//Department of Biological Sciences - ECPv6.15.20//NONSGML v1.0//EN
CALSCALE:GREGORIAN
METHOD:PUBLISH
X-WR-CALNAME:Department of Biological Sciences
X-ORIGINAL-URL:https://bio.sciences.ncsu.edu
X-WR-CALDESC:Events for Department of Biological Sciences
REFRESH-INTERVAL;VALUE=DURATION:PT1H
X-Robots-Tag:noindex
X-PUBLISHED-TTL:PT1H
BEGIN:VTIMEZONE
TZID:America/New_York
BEGIN:DAYLIGHT
TZOFFSETFROM:-0500
TZOFFSETTO:-0400
TZNAME:EDT
DTSTART:20250309T070000
END:DAYLIGHT
BEGIN:STANDARD
TZOFFSETFROM:-0400
TZOFFSETTO:-0500
TZNAME:EST
DTSTART:20251102T060000
END:STANDARD
BEGIN:DAYLIGHT
TZOFFSETFROM:-0500
TZOFFSETTO:-0400
TZNAME:EDT
DTSTART:20260308T070000
END:DAYLIGHT
BEGIN:STANDARD
TZOFFSETFROM:-0400
TZOFFSETTO:-0500
TZNAME:EST
DTSTART:20261101T060000
END:STANDARD
BEGIN:DAYLIGHT
TZOFFSETFROM:-0500
TZOFFSETTO:-0400
TZNAME:EDT
DTSTART:20270314T070000
END:DAYLIGHT
BEGIN:STANDARD
TZOFFSETFROM:-0400
TZOFFSETTO:-0500
TZNAME:EST
DTSTART:20271107T060000
END:STANDARD
END:VTIMEZONE
BEGIN:VEVENT
DTSTART;TZID=America/New_York:20260420T100000
DTEND;TZID=America/New_York:20260420T120000
DTSTAMP:20260423T183207
CREATED:20260120T185050Z
LAST-MODIFIED:20260120T185050Z
UID:10000403-1776679200-1776686400@bio.sciences.ncsu.edu
SUMMARY:Spring 2026 Walk-in Advising
DESCRIPTION:
URL:https://bio.sciences.ncsu.edu/event/spring-2026-walk-in-advising/2026-04-20/
LOCATION:Bostian Hall 2727
END:VEVENT
BEGIN:VEVENT
DTSTART;TZID=America/New_York:20260420T133000
DTEND;TZID=America/New_York:20260420T143000
DTSTAMP:20260423T183207
CREATED:20260112T164034Z
LAST-MODIFIED:20260112T164034Z
UID:10000377-1776691800-1776695400@bio.sciences.ncsu.edu
SUMMARY:GGA Seminar Series
DESCRIPTION:Will Valdar\, Ph.D. | University of North Carolina | Professor of Genetics\, Adjunct Associate Professor of Biostatistics
URL:https://bio.sciences.ncsu.edu/event/gga-seminar-series-56/
LOCATION:3503 Thomas Hall
END:VEVENT
END:VCALENDAR