BEGIN:VCALENDAR
VERSION:2.0
PRODID:-//Department of Biological Sciences - ECPv6.15.20//NONSGML v1.0//EN
CALSCALE:GREGORIAN
METHOD:PUBLISH
X-WR-CALNAME:Department of Biological Sciences
X-ORIGINAL-URL:https://bio.sciences.ncsu.edu
X-WR-CALDESC:Events for Department of Biological Sciences
REFRESH-INTERVAL;VALUE=DURATION:PT1H
X-Robots-Tag:noindex
X-PUBLISHED-TTL:PT1H
BEGIN:VTIMEZONE
TZID:America/New_York
BEGIN:DAYLIGHT
TZOFFSETFROM:-0500
TZOFFSETTO:-0400
TZNAME:EDT
DTSTART:20250309T070000
END:DAYLIGHT
BEGIN:STANDARD
TZOFFSETFROM:-0400
TZOFFSETTO:-0500
TZNAME:EST
DTSTART:20251102T060000
END:STANDARD
BEGIN:DAYLIGHT
TZOFFSETFROM:-0500
TZOFFSETTO:-0400
TZNAME:EDT
DTSTART:20260308T070000
END:DAYLIGHT
BEGIN:STANDARD
TZOFFSETFROM:-0400
TZOFFSETTO:-0500
TZNAME:EST
DTSTART:20261101T060000
END:STANDARD
BEGIN:DAYLIGHT
TZOFFSETFROM:-0500
TZOFFSETTO:-0400
TZNAME:EDT
DTSTART:20270314T070000
END:DAYLIGHT
BEGIN:STANDARD
TZOFFSETFROM:-0400
TZOFFSETTO:-0500
TZNAME:EST
DTSTART:20271107T060000
END:STANDARD
END:VTIMEZONE
BEGIN:VEVENT
DTSTART;TZID=America/New_York:20260319T100000
DTEND;TZID=America/New_York:20260319T120000
DTSTAMP:20260420T212944
CREATED:20260120T190919Z
LAST-MODIFIED:20260120T190919Z
UID:10000442-1773914400-1773921600@bio.sciences.ncsu.edu
SUMMARY:Spring 2026 Walk-in Advising
DESCRIPTION:
URL:https://bio.sciences.ncsu.edu/event/spring-2026-walk-in-advising-4/2026-03-19/
LOCATION:Bostian Hall 2727
END:VEVENT
BEGIN:VEVENT
DTSTART;TZID=America/New_York:20260319T160000
DTEND;TZID=America/New_York:20260319T170000
DTSTAMP:20260420T212944
CREATED:20251030T144453Z
LAST-MODIFIED:20251030T144453Z
UID:10000370-1773936000-1773939600@bio.sciences.ncsu.edu
SUMMARY:EvoGen seminar series
DESCRIPTION:
URL:https://bio.sciences.ncsu.edu/event/evogen-seminar-series-22/
END:VEVENT
END:VCALENDAR