BEGIN:VCALENDAR
VERSION:2.0
PRODID:-//Department of Biological Sciences - ECPv6.15.20//NONSGML v1.0//EN
CALSCALE:GREGORIAN
METHOD:PUBLISH
X-WR-CALNAME:Department of Biological Sciences
X-ORIGINAL-URL:https://bio.sciences.ncsu.edu
X-WR-CALDESC:Events for Department of Biological Sciences
REFRESH-INTERVAL;VALUE=DURATION:PT1H
X-Robots-Tag:noindex
X-PUBLISHED-TTL:PT1H
BEGIN:VTIMEZONE
TZID:America/New_York
BEGIN:DAYLIGHT
TZOFFSETFROM:-0500
TZOFFSETTO:-0400
TZNAME:EDT
DTSTART:20240310T070000
END:DAYLIGHT
BEGIN:STANDARD
TZOFFSETFROM:-0400
TZOFFSETTO:-0500
TZNAME:EST
DTSTART:20241103T060000
END:STANDARD
BEGIN:DAYLIGHT
TZOFFSETFROM:-0500
TZOFFSETTO:-0400
TZNAME:EDT
DTSTART:20250309T070000
END:DAYLIGHT
BEGIN:STANDARD
TZOFFSETFROM:-0400
TZOFFSETTO:-0500
TZNAME:EST
DTSTART:20251102T060000
END:STANDARD
BEGIN:DAYLIGHT
TZOFFSETFROM:-0500
TZOFFSETTO:-0400
TZNAME:EDT
DTSTART:20260308T070000
END:DAYLIGHT
BEGIN:STANDARD
TZOFFSETFROM:-0400
TZOFFSETTO:-0500
TZNAME:EST
DTSTART:20261101T060000
END:STANDARD
END:VTIMEZONE
BEGIN:VEVENT
DTSTART;TZID=America/New_York:20250821T120000
DTEND;TZID=America/New_York:20250821T130000
DTSTAMP:20260423T201140
CREATED:20250818T181321Z
LAST-MODIFIED:20250818T181321Z
UID:10000225-1755777600-1755781200@bio.sciences.ncsu.edu
SUMMARY:G3SA Meeting
DESCRIPTION:
URL:https://bio.sciences.ncsu.edu/event/g3sa-meeting/
LOCATION:3503 Thomas Hall\, Stephens Room
CATEGORIES:Student Events
END:VEVENT
END:VCALENDAR