BEGIN:VCALENDAR
VERSION:2.0
PRODID:-//Department of Biological Sciences - ECPv6.15.20//NONSGML v1.0//EN
CALSCALE:GREGORIAN
METHOD:PUBLISH
X-WR-CALNAME:Department of Biological Sciences
X-ORIGINAL-URL:https://bio.sciences.ncsu.edu
X-WR-CALDESC:Events for Department of Biological Sciences
REFRESH-INTERVAL;VALUE=DURATION:PT1H
X-Robots-Tag:noindex
X-PUBLISHED-TTL:PT1H
BEGIN:VTIMEZONE
TZID:America/New_York
BEGIN:DAYLIGHT
TZOFFSETFROM:-0500
TZOFFSETTO:-0400
TZNAME:EDT
DTSTART:20240310T070000
END:DAYLIGHT
BEGIN:STANDARD
TZOFFSETFROM:-0400
TZOFFSETTO:-0500
TZNAME:EST
DTSTART:20241103T060000
END:STANDARD
BEGIN:DAYLIGHT
TZOFFSETFROM:-0500
TZOFFSETTO:-0400
TZNAME:EDT
DTSTART:20250309T070000
END:DAYLIGHT
BEGIN:STANDARD
TZOFFSETFROM:-0400
TZOFFSETTO:-0500
TZNAME:EST
DTSTART:20251102T060000
END:STANDARD
BEGIN:DAYLIGHT
TZOFFSETFROM:-0500
TZOFFSETTO:-0400
TZNAME:EDT
DTSTART:20260308T070000
END:DAYLIGHT
BEGIN:STANDARD
TZOFFSETFROM:-0400
TZOFFSETTO:-0500
TZNAME:EST
DTSTART:20261101T060000
END:STANDARD
END:VTIMEZONE
BEGIN:VEVENT
DTSTART;VALUE=DATE:20250421
DTEND;VALUE=DATE:20250424
DTSTAMP:20260423T061832
CREATED:20250325T000256Z
LAST-MODIFIED:20250325T000256Z
UID:10000194-1745233200-1745405999@bio.sciences.ncsu.edu
SUMMARY:Last Week of Spring Semester
DESCRIPTION:“Last Week of Semester”: Lab tests\, semester project reports and presentations are permissible during the final week of classes. Papers and homework may have a due date during the final week of classes only if scheduled in the syllabus. However\, in order for students to prepare for final examinations\, faculty members may not assign other tests\, quizzes or additional papers during the final week of classes. Assignments should not have a due date during the final exam period unless the assignment constitutes a part of the final exam. Exceptions to this policy must be approved in advance by the department head and the dean of the college involved. Students should contact the appropriate instructor or department head if they believe an assignment is not in compliance with this regulation. \ngo.ncsu.edu/academiccalendar
URL:https://bio.sciences.ncsu.edu/event/last-week-of-spring-semester/
END:VEVENT
END:VCALENDAR